BEGIN:VCALENDAR
VERSION:2.0
PRODID:-//EWN - ECPv6.0.4//NONSGML v1.0//EN
CALSCALE:GREGORIAN
METHOD:PUBLISH
X-WR-CALNAME:EWN
X-ORIGINAL-URL:https://ewntree.com
X-WR-CALDESC:Events for EWN
REFRESH-INTERVAL;VALUE=DURATION:PT1H
X-Robots-Tag:noindex
X-PUBLISHED-TTL:PT1H
BEGIN:VTIMEZONE
TZID:UTC
BEGIN:STANDARD
TZOFFSETFROM:+0000
TZOFFSETTO:+0000
TZNAME:UTC
DTSTART:20230101T000000
END:STANDARD
END:VTIMEZONE
BEGIN:VEVENT
DTSTART;TZID=UTC:20230516T180000
DTEND;TZID=UTC:20230516T200000
DTSTAMP:20260424T130045
CREATED:20230505T091726Z
LAST-MODIFIED:20230505T092202Z
UID:5673-1684260000-1684267200@ewntree.com
SUMMARY:New Members Orientation
DESCRIPTION:Gazebo View\, Dzorwulu.
URL:https://ewntree.com/event/new-members-orientation/
LOCATION:Gazebo View\, Dzorwulu.\, Ghana
ATTACH;FMTTYPE=image/jpeg:https://ewntree.com/wp-content/uploads/2023/05/20addba3-9685-4e03-8bc2-6bfc1323a7bc.jpg
END:VEVENT
END:VCALENDAR