BEGIN:VCALENDAR
VERSION:2.0
PRODID:-//EWN - ECPv6.0.4//NONSGML v1.0//EN
CALSCALE:GREGORIAN
METHOD:PUBLISH
X-ORIGINAL-URL:https://ewntree.com
X-WR-CALDESC:Events for EWN
REFRESH-INTERVAL;VALUE=DURATION:PT1H
X-Robots-Tag:noindex
X-PUBLISHED-TTL:PT1H
BEGIN:VTIMEZONE
TZID:UTC
BEGIN:STANDARD
TZOFFSETFROM:+0000
TZOFFSETTO:+0000
TZNAME:UTC
DTSTART:20230101T000000
END:STANDARD
END:VTIMEZONE
BEGIN:VEVENT
DTSTART;VALUE=DATE:20231102
DTEND;VALUE=DATE:20231105
DTSTAMP:20260424T053848
CREATED:20230315T122653Z
LAST-MODIFIED:20230818T091325Z
UID:5622-1698883200-1699142399@ewntree.com
SUMMARY:Annual Conference 2023
DESCRIPTION:
URL:https://ewntree.com/event/annual-conference-2023/
ATTACH;FMTTYPE=image/jpeg:https://ewntree.com/wp-content/uploads/2023/08/PHOTO-2023-08-03-16-08-20.jpg
END:VEVENT
END:VCALENDAR