BEGIN:VCALENDAR
VERSION:2.0
PRODID:-//EWN - ECPv6.0.4//NONSGML v1.0//EN
CALSCALE:GREGORIAN
METHOD:PUBLISH
X-WR-CALNAME:EWN
X-ORIGINAL-URL:https://ewntree.com
X-WR-CALDESC:Events for EWN
REFRESH-INTERVAL;VALUE=DURATION:PT1H
X-Robots-Tag:noindex
X-PUBLISHED-TTL:PT1H
BEGIN:VTIMEZONE
TZID:UTC
BEGIN:STANDARD
TZOFFSETFROM:+0000
TZOFFSETTO:+0000
TZNAME:UTC
DTSTART:20240101T000000
END:STANDARD
END:VTIMEZONE
BEGIN:VEVENT
DTSTART;TZID=UTC:20240828T080000
DTEND;TZID=UTC:20240828T173000
DTSTAMP:20260421T054330
CREATED:20230818T090519Z
LAST-MODIFIED:20240902T113932Z
UID:6019-1724832000-1724866200@ewntree.com
SUMMARY:EWN 2024 AGM
DESCRIPTION:
URL:https://ewntree.com/event/ewn-2024-agm/
LOCATION:La Palm Beach Hotel
ATTACH;FMTTYPE=image/jpeg:https://ewntree.com/wp-content/uploads/2023/08/WhatsApp-Image-2024-09-02-at-10.56.07.jpeg
END:VEVENT
END:VCALENDAR