BEGIN:VCALENDAR
VERSION:2.0
PRODID:-//EWN - ECPv6.0.4//NONSGML v1.0//EN
CALSCALE:GREGORIAN
METHOD:PUBLISH
X-ORIGINAL-URL:https://ewntree.com
X-WR-CALDESC:Events for EWN
REFRESH-INTERVAL;VALUE=DURATION:PT1H
X-Robots-Tag:noindex
X-PUBLISHED-TTL:PT1H
BEGIN:VTIMEZONE
TZID:UTC
BEGIN:STANDARD
TZOFFSETFROM:+0000
TZOFFSETTO:+0000
TZNAME:UTC
DTSTART:20240101T000000
END:STANDARD
END:VTIMEZONE
BEGIN:VEVENT
DTSTART;TZID=UTC:20241012T170000
DTEND;TZID=UTC:20241012T170000
DTSTAMP:20260420T222952
CREATED:20241008T103445Z
LAST-MODIFIED:20241008T103947Z
UID:6212-1728752400-1728752400@ewntree.com
SUMMARY:EWN in Collaboration with Focos Hospital
DESCRIPTION:Breast Cancer Awareness & Support \nADMISSION IS FREE‼️ \nSee flyer for details! \nDon’t miss this opportunity to learn\, get tested\, and show support! \nTogether\, let’s fight against breast cancer!\n#wearestrongertogether
URL:https://ewntree.com/event/ewn-in-collaboration-with-focos-hospital/
LOCATION:African Regeant Hotel
ATTACH;FMTTYPE=image/jpeg:https://ewntree.com/wp-content/uploads/2024/10/WhatsApp-Image-2024-10-07-at-14.18.02.jpeg
END:VEVENT
BEGIN:VEVENT
DTSTART;TZID=UTC:20241024T190000
DTEND;TZID=UTC:20241024T190000
DTSTAMP:20260420T222952
CREATED:20241008T104426Z
LAST-MODIFIED:20241008T104621Z
UID:6221-1729796400-1729796400@ewntree.com
SUMMARY:SELF CARE- UNDERSTANDING WHAT YOU ARE GOING THROUGH (DEALING WITH LOSS)
DESCRIPTION:SISTER TO SISTER CANDID CHAT‼️\nSELF CARE- UNDERSTANDING WHAT YOU ARE GOING THROUGH (DEALING WITH LOSS) \nLadies\, \nSave the date‼️ \nYou’re Invited to Our Next Empowering Event! \nDate: October 24\, 2024\nVenue: Zoom Online (Virtual Event) \nDon’t miss this exciting follow-up to our successful Sister-to-Sister Candid Chat! This event promises to be even more impactful. \nFREE EVENT \nCheck the attached flyer for details. \nThank you
URL:https://ewntree.com/event/self-care-understanding-what-you-are-going-through-dealing-with-loss/
ATTACH;FMTTYPE=image/jpeg:https://ewntree.com/wp-content/uploads/2024/10/WhatsApp-Image-2024-10-07-at-14.18.24-1.jpeg
END:VEVENT
END:VCALENDAR