BEGIN:VCALENDAR
VERSION:2.0
PRODID:-//EWN - ECPv6.0.4//NONSGML v1.0//EN
CALSCALE:GREGORIAN
METHOD:PUBLISH
X-WR-CALNAME:EWN
X-ORIGINAL-URL:https://ewntree.com
X-WR-CALDESC:Events for EWN
REFRESH-INTERVAL;VALUE=DURATION:PT1H
X-Robots-Tag:noindex
X-PUBLISHED-TTL:PT1H
BEGIN:VTIMEZONE
TZID:UTC
BEGIN:STANDARD
TZOFFSETFROM:+0000
TZOFFSETTO:+0000
TZNAME:UTC
DTSTART:20250101T000000
END:STANDARD
END:VTIMEZONE
BEGIN:VEVENT
DTSTART;TZID=UTC:20250319T150000
DTEND;TZID=UTC:20250319T150000
DTSTAMP:20260424T122338
CREATED:20250318T132554Z
LAST-MODIFIED:20250318T162945Z
UID:6307-1742396400-1742396400@ewntree.com
SUMMARY:2025 Budget Statement & Women's Economic Empowerment
DESCRIPTION:Upcoming Webinar: 2025 Budget Statement & Women’s Economic Empowerment\nHello Ladies! \nWe’re excited to share with you an upcoming webinar in collaboration with WEE! \nJoin us as we discuss the ” 2025 Budget Statement and its Contribution to Women’s Economic Empowerment ” with our very own EWN sister – Theresa Ayoade – being on the panel. \nCheck out the flyer for more details! \nThis webinar is a great opportunity to gain insights and knowledge on how the budget statement impacts women’s economic empowerment.
URL:https://ewntree.com/event/2025-budget-statement-womens-economic-empowerment/
LOCATION:Zoom
ATTACH;FMTTYPE=image/jpeg:https://ewntree.com/wp-content/uploads/2025/03/WhatsApp-Image-2025-03-18-at-13.13.14.jpeg
END:VEVENT
BEGIN:VEVENT
DTSTART;TZID=UTC:20250329T090000
DTEND;TZID=UTC:20250329T140000
DTSTAMP:20260424T122338
CREATED:20250318T125746Z
LAST-MODIFIED:20250318T125746Z
UID:6303-1743238800-1743256800@ewntree.com
SUMMARY:Amplify your Impact
DESCRIPTION:
URL:https://ewntree.com/event/amplify-your-impact/
LOCATION:The Orchid\, Airport Hills Estate\, Ghana
ATTACH;FMTTYPE=image/jpeg:https://ewntree.com/wp-content/uploads/2025/03/WhatsApp-Image-2025-03-14-at-09.20.30-1.jpeg
END:VEVENT
END:VCALENDAR